BEGIN:VCALENDAR
VERSION:2.0
PRODID:-//Stratis iCal API//FR
CALSCALE:GREGORIAN
X-WR-CALNAME:Germaine Krull, la photographie ou la vie 
BEGIN:VEVENT
UID:event-299103
SUMMARY:Germaine Krull  la photographie ou la vie 
DESCRIPTION:Dans le cadre de la "Programmation de Maison Doisneau au Lavoir Numérique : des films sur la photographie"  "Germaine Krull  la photographie ou la vie"  documentaire réalisé par Audrey Gordon (2024)  60 min  VF 
DTSTAMP:20251215T114400Z
DTSTART:20260621T140000Z
DTEND:20260621T150000Z
STATUS:CONFIRMED
SEQUENCE:143
BEGIN:VALARM
TRIGGER:-PT30M
DESCRIPTION:Germaine Krull  la photographie ou la vie 
ACTION:DISPLAY
END:VALARM
END:VEVENT
END:VCALENDAR