BEGIN:VCALENDAR
VERSION:2.0
PRODID:-//Stratis iCal API//FR
CALSCALE:GREGORIAN
X-WR-CALNAME:I am Martin Parr
BEGIN:VEVENT
UID:event-299102
SUMMARY:I am Martin Parr
DESCRIPTION:Figure majeure de l'agence Magnum  Martin Parr (1952-2025) a profondément marqué la photographie contemporaine par son style audacieux et ses couleurs saturées. Ce documentaire signé du photographe Lee Shulman dresse le portrait d’un artiste intransigeant  obsédé par ses sujets et ses cadrages.
DTSTAMP:20251215T113700Z
DTSTART:20260315T150000Z
DTEND:20260315T160000Z
STATUS:CONFIRMED
SEQUENCE:158
BEGIN:VALARM
TRIGGER:-PT30M
DESCRIPTION:I am Martin Parr
ACTION:DISPLAY
END:VALARM
END:VEVENT
END:VCALENDAR